BEGIN:VCALENDAR
VERSION:2.0
PRODID:-//Vereinskapelle Gossensaß - ECPv6.15.20//NONSGML v1.0//EN
CALSCALE:GREGORIAN
METHOD:PUBLISH
X-WR-CALNAME:Vereinskapelle Gossensaß
X-ORIGINAL-URL:https://vk-gossensass.com
X-WR-CALDESC:Veranstaltungen für Vereinskapelle Gossensaß
REFRESH-INTERVAL;VALUE=DURATION:PT1H
X-Robots-Tag:noindex
X-PUBLISHED-TTL:PT1H
BEGIN:VTIMEZONE
TZID:UTC
BEGIN:STANDARD
TZOFFSETFROM:+0000
TZOFFSETTO:+0000
TZNAME:UTC
DTSTART:20250101T000000
END:STANDARD
END:VTIMEZONE
BEGIN:VEVENT
DTSTART;TZID=UTC:20260503T091500
DTEND;TZID=UTC:20260503T110000
DTSTAMP:20260424T100915
CREATED:20260110T213621Z
LAST-MODIFIED:20260110T213621Z
UID:4214-1777799700-1777806000@vk-gossensass.com
SUMMARY:Einmarsch zur Floriani-Feier in Gossensaß
DESCRIPTION:Ausrücken zur Floriani-Feier um 9:15 Uhr in Wintertracht vom Probelokal zur Kirche anschließend Marsch über die Pfarrgasse\, Ibsenplatz\, Tribulaunstraße (Lettngasse) zur Feuerwehrhalle
URL:https://vk-gossensass.com/event/einmarsch-zur-floriani-feier-in-gossensass-7/
LOCATION:Pfarrkirche Gossensaß\, Pfarrgasse\, Gossensaß\, Südtirol\, 39041\, Italien
CATEGORIES:Termine
ATTACH;FMTTYPE=image/jpeg:https://vk-gossensass.com/neu/wp-content/uploads/2024/01/floriani2023.jpg
END:VEVENT
BEGIN:VEVENT
DTSTART;TZID=UTC:20260510T103000
DTEND;TZID=UTC:20260510T120000
DTSTAMP:20260424T100915
CREATED:20260110T213709Z
LAST-MODIFIED:20260213T220218Z
UID:4216-1778409000-1778414400@vk-gossensass.com
SUMMARY:Einmarsch zur Erstkommunion in Gossensaß
DESCRIPTION:Ausrücken in Tracht zur Erstkommunion in Gossensaß; nach der Messfeier werden im Pavillon noch einige Märsche gespielt
URL:https://vk-gossensass.com/event/einmarsch-zur-erstkommunion-in-gossensass-5/
LOCATION:Pfarrkirche Gossensaß\, Pfarrgasse\, Gossensaß\, Südtirol\, 39041\, Italien
CATEGORIES:Termine
ATTACH;FMTTYPE=image/jpeg:https://vk-gossensass.com/neu/wp-content/uploads/2019/01/child-3360430_1920.jpg
END:VEVENT
BEGIN:VEVENT
DTSTART;TZID=UTC:20260523T201500
DTEND;TZID=UTC:20260523T230000
DTSTAMP:20260424T100915
CREATED:20260110T213838Z
LAST-MODIFIED:20260110T213838Z
UID:4218-1779567300-1779577200@vk-gossensass.com
SUMMARY:Pfingstkonzert in Gossensaß
DESCRIPTION:Bei der Vereinskapelle Gossensaß findet traditionell am Pfingstsamstag das jährliche Hauptkonzert statt. Nach zahlreichen Proben bietet die Vereinskapelle ihr Können der Bevölkerung von Gossensaß dar.
URL:https://vk-gossensass.com/event/pfingstkonzert-in-gossensass-8/
LOCATION:Ferienheim Soggiorno\, Strange\, 2\, Gossensaß\, Südtirol\, 39041\, Italien
CATEGORIES:Termine
ATTACH;FMTTYPE=image/jpeg:https://vk-gossensass.com/neu/wp-content/uploads/2025/09/pfingsten2024.jpg
END:VEVENT
BEGIN:VEVENT
DTSTART;TZID=UTC:20260530T103000
DTEND;TZID=UTC:20260530T130000
DTSTAMP:20260424T100915
CREATED:20260114T204901Z
LAST-MODIFIED:20260218T200610Z
UID:4245-1780137000-1780146000@vk-gossensass.com
SUMMARY:Waldstadion Open Air Trens
DESCRIPTION:Teilnahme beim Sternmarsch zusammen mit weiteren 13 Musikkapellen des Bezirks Wipptal und der Umgebung mit anschließendem Gesamtspiel
URL:https://vk-gossensass.com/event/waldstadion-open-air-trens/
LOCATION:Südtirol
CATEGORIES:Termine
ATTACH;FMTTYPE=image/jpeg:https://vk-gossensass.com/neu/wp-content/uploads/2026/01/Waldstadion2026.jpg
END:VEVENT
BEGIN:VEVENT
DTSTART;VALUE=DATE:20260607
DTEND;VALUE=DATE:20260608
DTSTAMP:20260424T100915
CREATED:20260110T214914Z
LAST-MODIFIED:20260110T214914Z
UID:4223-1780790400-1780876799@vk-gossensass.com
SUMMARY:Konzert beim Musikfest in Salurn
DESCRIPTION:Konzert der Musikkapelle der nördlichsten Gemeinde von Südtirol beim Musikfest der Musikkapelle Salurn in der südlichsten Gemeinde von Südtirol auf dem Festplatz in Salurn
URL:https://vk-gossensass.com/event/konzert-beim-musikfest-in-salurn/
LOCATION:Südtirol
CATEGORIES:Termine
ATTACH;FMTTYPE=image/png:https://vk-gossensass.com/neu/wp-content/uploads/2026/01/MK_Salurn.png
END:VEVENT
BEGIN:VEVENT
DTSTART;TZID=UTC:20260614T090000
DTEND;TZID=UTC:20260614T120000
DTSTAMP:20260424T100915
CREATED:20260110T214151Z
LAST-MODIFIED:20260110T214151Z
UID:4220-1781427600-1781438400@vk-gossensass.com
SUMMARY:Herz-Jesu-Prozession in Gossensaß
DESCRIPTION:Herz-Jesu-Prozession in Gossensaß
URL:https://vk-gossensass.com/event/herz-jesu-prozession-in-gossensass-5/
LOCATION:Pfarrkirche Gossensaß\, Pfarrgasse\, Gossensaß\, Südtirol\, 39041\, Italien
CATEGORIES:Termine
ATTACH;FMTTYPE=image/jpeg:https://vk-gossensass.com/neu/wp-content/uploads/2026/01/herz-jesu-prozession2022.jpg
END:VEVENT
BEGIN:VEVENT
DTSTART;TZID=UTC:20260711T170000
DTEND;TZID=UTC:20260712T180000
DTSTAMP:20260424T100915
CREATED:20260110T215639Z
LAST-MODIFIED:20260121T195649Z
UID:4226-1783789200-1783879200@vk-gossensass.com
SUMMARY:Musikfest in Gossensaß
DESCRIPTION:Zweitägiges Musikfest in den Parkanlagen von Gossensaß mit Dämmerschoppen am Samstag\, den 11. Juli mit Festbeginn um 17:30 Uhr | 18:30 Uhr Konzert der Musikkapelle Steinach am Brenner  | 21:00 Uhr Stimmung mit der Gruppe Vollbluet | Frühschoppen am Sonntag\, den 12. Juli ab 10:00 Uhr und Einmarsch mit Konzert der Musikkapelle Mareit um 10:45 Uhr | 13:30 Uhr Konzert der Musikkapelle Weitental
URL:https://vk-gossensass.com/event/musikfest-in-gossensass-8/
LOCATION:Festplatz Gossensaß\, Ibsenplatz\, Gossensaß\, Südtirol\, 39041\, Italien
CATEGORIES:Spaß,Termine
ATTACH;FMTTYPE=image/jpeg:https://vk-gossensass.com/neu/wp-content/uploads/2026/01/vollbluet2026.jpg
END:VEVENT
BEGIN:VEVENT
DTSTART;VALUE=DATE:20260726
DTEND;VALUE=DATE:20260727
DTSTAMP:20260424T100915
CREATED:20260110T220011Z
LAST-MODIFIED:20260110T221003Z
UID:4229-1785024000-1785110399@vk-gossensass.com
SUMMARY:Konzert beim Musikfest in Welschnofen
DESCRIPTION:Konzert beim Musikfest der Musikkapelle Welschnofen beim Vereinshaus Welschnofen
URL:https://vk-gossensass.com/event/konzert-beim-musikfest-in-welschnofen/
LOCATION:Südtirol
CATEGORIES:Termine
ATTACH;FMTTYPE=image/jpeg:https://vk-gossensass.com/neu/wp-content/uploads/2026/01/MK_Welschnofen.jpg
END:VEVENT
BEGIN:VEVENT
DTSTART;TZID=UTC:20260815T104500
DTEND;TZID=UTC:20260815T130000
DTSTAMP:20260424T100915
CREATED:20260110T220112Z
LAST-MODIFIED:20260110T220112Z
UID:4232-1786790700-1786798800@vk-gossensass.com
SUMMARY:Frühschoppenkonzert mit Einmarsch in Gossensaß
DESCRIPTION:Einmarsch mit Frühschoppenkonzert im Pavillon in Gossensaß um 10:45 Uhr organisiert vom Amateursportverein Gossensaß
URL:https://vk-gossensass.com/event/fruehschoppenkonzert-mit-einmarsch-in-gossensass-7/
LOCATION:Festplatz Gossensaß\, Ibsenplatz\, Gossensaß\, Südtirol\, 39041\, Italien
CATEGORIES:Termine
ATTACH;FMTTYPE=image/jpeg:https://vk-gossensass.com/neu/wp-content/uploads/2019/04/fruehschoppen2015.jpg
END:VEVENT
BEGIN:VEVENT
DTSTART;VALUE=DATE:20260823
DTEND;VALUE=DATE:20260824
DTSTAMP:20260424T100915
CREATED:20260110T220454Z
LAST-MODIFIED:20260110T220454Z
UID:4234-1787443200-1787529599@vk-gossensass.com
SUMMARY:Konzert beim Musikfest in Mareit
DESCRIPTION:Konzert beim Kirchtagsfest der Musikkapelle Mareit auf dem Festplatz in Mareit
URL:https://vk-gossensass.com/event/konzert-beim-musikfest-in-mareit/
LOCATION:Südtirol
CATEGORIES:Termine
ATTACH;FMTTYPE=image/jpeg:https://vk-gossensass.com/neu/wp-content/uploads/2026/01/kirchtag_mareit.jpg
END:VEVENT
BEGIN:VEVENT
DTSTART;TZID=UTC:20260913T104500
DTEND;TZID=UTC:20260913T130000
DTSTAMP:20260424T100915
CREATED:20260110T220653Z
LAST-MODIFIED:20260110T220653Z
UID:4237-1789296300-1789304400@vk-gossensass.com
SUMMARY:Frühschoppenkonzert Gossensasser Kirchtag
DESCRIPTION:Einmarsch mit Frühschoppenkonzert im Pavillon in Gossensaß um 10:45 Uhr
URL:https://vk-gossensass.com/event/fruehschoppenkonzert-gossensasser-kirchtag-4/
LOCATION:Festplatz Gossensaß\, Ibsenplatz\, Gossensaß\, Südtirol\, 39041\, Italien
CATEGORIES:Termine
ATTACH;FMTTYPE=image/jpeg:https://vk-gossensass.com/neu/wp-content/uploads/2026/01/kirchtag_gossensass.jpg
END:VEVENT
BEGIN:VEVENT
DTSTART;TZID=UTC:20261101T140000
DTEND;TZID=UTC:20261101T150000
DTSTAMP:20260424T100915
CREATED:20260110T220757Z
LAST-MODIFIED:20260110T220757Z
UID:4240-1793541600-1793545200@vk-gossensass.com
SUMMARY:Allerheiligen: Spiel eines Trauermarsches
DESCRIPTION:Abspielen eines Trauermarsches an Allerheiligen am Nachmittag bei der Barbara-Kapelle in Gossensaß
URL:https://vk-gossensass.com/event/allerheiligen-spiel-eines-trauermarsches-8/
LOCATION:Pfarrkirche Gossensaß\, Pfarrgasse\, Gossensaß\, Südtirol\, 39041\, Italien
CATEGORIES:Termine
ATTACH;FMTTYPE=image/jpeg:https://vk-gossensass.com/neu/wp-content/uploads/2019/04/all-saints-3799054_1920.jpg
END:VEVENT
BEGIN:VEVENT
DTSTART;TZID=UTC:20261122T091500
DTEND;TZID=UTC:20261122T150000
DTSTAMP:20260424T100915
CREATED:20260110T220855Z
LAST-MODIFIED:20260110T220855Z
UID:4242-1795338900-1795359600@vk-gossensass.com
SUMMARY:Cäcilia-Sonntag + 107. ord. Jahreshauptversammlung
DESCRIPTION:Kirchgang und Mitgestaltung des Hauptgottesdienstes mit dem Chor | anschließend Abhaltung der 107. ord. Jahreshauptversammlung um 10:30 Uhr im Gemeindesaal von Gossensaß und Mittagessen um ca. 12:30 Uhr
URL:https://vk-gossensass.com/event/caecilia-sonntag-107-ord-jahreshauptversammlung/
LOCATION:Pfarrkirche Gossensaß\, Pfarrgasse\, Gossensaß\, Südtirol\, 39041\, Italien
CATEGORIES:Termine
ATTACH;FMTTYPE=image/jpeg:https://vk-gossensass.com/neu/wp-content/uploads/2019/01/cäcilia.jpg
END:VEVENT
END:VCALENDAR